BEGIN:VCALENDAR
VERSION:2.0
PRODID:-//GRÜNE Kanton Luzern - ECPv6.15.15//NONSGML v1.0//EN
CALSCALE:GREGORIAN
METHOD:PUBLISH
X-WR-CALNAME:GRÜNE Kanton Luzern
X-ORIGINAL-URL:https://gruene-luzern.ch
X-WR-CALDESC:Veranstaltungen für GRÜNE Kanton Luzern
REFRESH-INTERVAL;VALUE=DURATION:PT1H
X-Robots-Tag:noindex
X-PUBLISHED-TTL:PT1H
BEGIN:VTIMEZONE
TZID:Europe/Zurich
BEGIN:DAYLIGHT
TZOFFSETFROM:+0100
TZOFFSETTO:+0200
TZNAME:CEST
DTSTART:20210328T010000
END:DAYLIGHT
BEGIN:STANDARD
TZOFFSETFROM:+0200
TZOFFSETTO:+0100
TZNAME:CET
DTSTART:20211031T010000
END:STANDARD
BEGIN:DAYLIGHT
TZOFFSETFROM:+0100
TZOFFSETTO:+0200
TZNAME:CEST
DTSTART:20220327T010000
END:DAYLIGHT
BEGIN:STANDARD
TZOFFSETFROM:+0200
TZOFFSETTO:+0100
TZNAME:CET
DTSTART:20221030T010000
END:STANDARD
BEGIN:DAYLIGHT
TZOFFSETFROM:+0100
TZOFFSETTO:+0200
TZNAME:CEST
DTSTART:20230326T010000
END:DAYLIGHT
BEGIN:STANDARD
TZOFFSETFROM:+0200
TZOFFSETTO:+0100
TZNAME:CET
DTSTART:20231029T010000
END:STANDARD
END:VTIMEZONE
BEGIN:VEVENT
DTSTART;TZID=Europe/Zurich:20220118T190000
DTEND;TZID=Europe/Zurich:20220118T210000
DTSTAMP:20260421T143027
CREATED:20211020T131530Z
LAST-MODIFIED:20220105T124254Z
UID:1558-1642532400-1642539600@gruene-luzern.ch
SUMMARY:Vorstand und Mitgliederversammlung GRÜNE Stadt Luzern
DESCRIPTION:
URL:https://gruene-luzern.ch/event/vorstand-und-mitgliederversammlung-gruene-stadt-luzern
LOCATION:Online-Event
CATEGORIES:Mitgliederversammlung,Termine
END:VEVENT
END:VCALENDAR