BEGIN:VCALENDAR
VERSION:2.0
PRODID:-//GRÜNE Kanton Luzern - ECPv6.15.15//NONSGML v1.0//EN
CALSCALE:GREGORIAN
METHOD:PUBLISH
X-WR-CALNAME:GRÜNE Kanton Luzern
X-ORIGINAL-URL:https://gruene-luzern.ch
X-WR-CALDESC:Veranstaltungen für GRÜNE Kanton Luzern
REFRESH-INTERVAL;VALUE=DURATION:PT1H
X-Robots-Tag:noindex
X-PUBLISHED-TTL:PT1H
BEGIN:VTIMEZONE
TZID:Europe/Zurich
BEGIN:DAYLIGHT
TZOFFSETFROM:+0100
TZOFFSETTO:+0200
TZNAME:CEST
DTSTART:20210328T010000
END:DAYLIGHT
BEGIN:STANDARD
TZOFFSETFROM:+0200
TZOFFSETTO:+0100
TZNAME:CET
DTSTART:20211031T010000
END:STANDARD
BEGIN:DAYLIGHT
TZOFFSETFROM:+0100
TZOFFSETTO:+0200
TZNAME:CEST
DTSTART:20220327T010000
END:DAYLIGHT
BEGIN:STANDARD
TZOFFSETFROM:+0200
TZOFFSETTO:+0100
TZNAME:CET
DTSTART:20221030T010000
END:STANDARD
BEGIN:DAYLIGHT
TZOFFSETFROM:+0100
TZOFFSETTO:+0200
TZNAME:CEST
DTSTART:20230326T010000
END:DAYLIGHT
BEGIN:STANDARD
TZOFFSETFROM:+0200
TZOFFSETTO:+0100
TZNAME:CET
DTSTART:20231029T010000
END:STANDARD
END:VTIMEZONE
BEGIN:VEVENT
DTSTART;TZID=Europe/Zurich:20220516T180000
DTEND;TZID=Europe/Zurich:20220516T200000
DTSTAMP:20260422T014727
CREATED:20220324T140939Z
LAST-MODIFIED:20220324T142035Z
UID:1835-1652724000-1652731200@gruene-luzern.ch
SUMMARY:Palaver: Mit Super Mario durchs Leben
DESCRIPTION:
URL:https://gruene-luzern.ch/event/palaver-warum-spielen-menschen
LOCATION:Treibhaus\, Luzern
CATEGORIES:Externe Termine,Palaver,Termine
END:VEVENT
END:VCALENDAR