BEGIN:VCALENDAR
VERSION:2.0
PRODID:-//GRÜNE Kanton Luzern - ECPv6.15.15//NONSGML v1.0//EN
CALSCALE:GREGORIAN
METHOD:PUBLISH
X-WR-CALNAME:GRÜNE Kanton Luzern
X-ORIGINAL-URL:https://gruene-luzern.ch
X-WR-CALDESC:Veranstaltungen für GRÜNE Kanton Luzern
REFRESH-INTERVAL;VALUE=DURATION:PT1H
X-Robots-Tag:noindex
X-PUBLISHED-TTL:PT1H
BEGIN:VTIMEZONE
TZID:Europe/Zurich
BEGIN:DAYLIGHT
TZOFFSETFROM:+0100
TZOFFSETTO:+0200
TZNAME:CEST
DTSTART:20250330T010000
END:DAYLIGHT
BEGIN:STANDARD
TZOFFSETFROM:+0200
TZOFFSETTO:+0100
TZNAME:CET
DTSTART:20251026T010000
END:STANDARD
BEGIN:DAYLIGHT
TZOFFSETFROM:+0100
TZOFFSETTO:+0200
TZNAME:CEST
DTSTART:20260329T010000
END:DAYLIGHT
BEGIN:STANDARD
TZOFFSETFROM:+0200
TZOFFSETTO:+0100
TZNAME:CET
DTSTART:20261025T010000
END:STANDARD
BEGIN:DAYLIGHT
TZOFFSETFROM:+0100
TZOFFSETTO:+0200
TZNAME:CEST
DTSTART:20270328T010000
END:DAYLIGHT
BEGIN:STANDARD
TZOFFSETFROM:+0200
TZOFFSETTO:+0100
TZNAME:CET
DTSTART:20271031T010000
END:STANDARD
END:VTIMEZONE
BEGIN:VEVENT
DTSTART;TZID=Europe/Zurich:20260505T200000
DTEND;TZID=Europe/Zurich:20260505T220000
DTSTAMP:20260426T060931
CREATED:20251229T134850Z
LAST-MODIFIED:20260107T132651Z
UID:5165-1778011200-1778018400@gruene-luzern.ch
SUMMARY:Kerngruppen-Treffen der Ortsgruppe Emmen
DESCRIPTION:
URL:https://gruene-luzern.ch/event/kerngruppen-treffen-der-ortsgruppe-emmen
LOCATION:tbd
CATEGORIES:Öffentliche Veranstaltungen,Termine
END:VEVENT
END:VCALENDAR